BEGIN:VCALENDAR
VERSION:2.0
PRODID:-//CapeSpace - ECPv6.15.20//NONSGML v1.0//EN
CALSCALE:GREGORIAN
METHOD:PUBLISH
X-WR-CALNAME:CapeSpace
X-ORIGINAL-URL:https://capespace.com
X-WR-CALDESC:Events for CapeSpace
REFRESH-INTERVAL;VALUE=DURATION:PT1H
X-Robots-Tag:noindex
X-PUBLISHED-TTL:PT1H
BEGIN:VTIMEZONE
TZID:America/New_York
BEGIN:DAYLIGHT
TZOFFSETFROM:-0500
TZOFFSETTO:-0400
TZNAME:EDT
DTSTART:20240310T070000
END:DAYLIGHT
BEGIN:STANDARD
TZOFFSETFROM:-0400
TZOFFSETTO:-0500
TZNAME:EST
DTSTART:20241103T060000
END:STANDARD
BEGIN:DAYLIGHT
TZOFFSETFROM:-0500
TZOFFSETTO:-0400
TZNAME:EDT
DTSTART:20250309T070000
END:DAYLIGHT
BEGIN:STANDARD
TZOFFSETFROM:-0400
TZOFFSETTO:-0500
TZNAME:EST
DTSTART:20251102T060000
END:STANDARD
BEGIN:DAYLIGHT
TZOFFSETFROM:-0500
TZOFFSETTO:-0400
TZNAME:EDT
DTSTART:20260308T070000
END:DAYLIGHT
BEGIN:STANDARD
TZOFFSETFROM:-0400
TZOFFSETTO:-0500
TZNAME:EST
DTSTART:20261101T060000
END:STANDARD
END:VTIMEZONE
BEGIN:VEVENT
DTSTART;VALUE=DATE:20251016
DTEND;VALUE=DATE:20251017
DTSTAMP:20260425T223650
CREATED:20250930T160311Z
LAST-MODIFIED:20251004T201456Z
UID:25148-1760572800-1760659199@capespace.com
SUMMARY:QuickBooks Bootcamp: Cape Cod Edition
DESCRIPTION:CapeSpace is proud to host a full-day QuickBooks Bootcamp designed to give small business owners\, CPAs\, and bookkeepers the tools they need to succeed. \n\nLed by Susan Cook and Kim Marchand\, this hands-on workshop will help you: \n\nStreamline bookkeeping and accounting processes\nGain confidence using QuickBooks Online\nStrengthen your financial management skills\nConnect with peers and local professionals in our bright Mashpee atrium space\n\nWhether you’re just starting out or want to sharpen your existing skills\, this workshop is the training every business owner wishes they had sooner.
URL:https://capespace.com/event/quickbooks-bootcamp-cape-cod-edition-oct-2025/
LOCATION:CapeSpace Mashpee\, 13 Steeple Street\, Suite 202\, Mashpee\, MA\, 02649\, United States
CATEGORIES:Member Events,Workshop
ATTACH;FMTTYPE=image/png:https://capespace.com/wp-content/uploads/2025/09/QB-Bootcamp-Website.png
END:VEVENT
BEGIN:VEVENT
DTSTART;TZID=America/New_York:20251022T090000
DTEND;TZID=America/New_York:20251022T123000
DTSTAMP:20260425T223650
CREATED:20251004T200109Z
LAST-MODIFIED:20251014T183525Z
UID:25216-1761123600-1761136200@capespace.com
SUMMARY:SEED and The Cape & Coast Bank Small Business Workshop
DESCRIPTION:SEED Corporation and The Cape & Coast Bank will provide this free in-person entrepreneurial workshop in which participants will learn the fundamentals of owning a business. Topics will include: What Lenders Looks For: Business Financing\, Requirements of a Loan Application Package\, Importance of Completing a Business Plan and Financial Projections\, Local Resources/ Assistance Available to Small Businesses. The workshop is open to anyone currently in business\, starting a business\, or thinking about someday owning a business\, as well as business assistance professionals who would like to learn more about SEED’s technical assistance programming. \nAttendees will be provided with a free workshop materials and will be introduced to free and confidential business assistance resources available to them locally and regionally. Please arrive at the address below at least 15 minutes prior to the start of the workshop. \nRegistration is required.
URL:https://capespace.com/event/seed-entrepreneurial-workshop-october-2025/
LOCATION:CapeSpace Mashpee\, 13 Steeple Street\, Suite 202\, Mashpee\, MA\, 02649\, United States
CATEGORIES:Workshop
ATTACH;FMTTYPE=image/png:https://capespace.com/wp-content/uploads/2025/10/Cape-Coast-Workshop-1.png
ORGANIZER;CN="South Eastern Economic Development Corporation (SEED)":MAILTO:aricard@seedcorp.com
END:VEVENT
BEGIN:VEVENT
DTSTART;TZID=America/New_York:20251022T093000
DTEND;TZID=America/New_York:20251022T110000
DTSTAMP:20260425T223650
CREATED:20250930T211345Z
LAST-MODIFIED:20251004T201005Z
UID:25156-1761125400-1761130800@capespace.com
SUMMARY:Empowering Women Entrepreneurs Roundtable: Brand Like a Boss
DESCRIPTION:What makes a brand truly stand out? It’s not just a pretty logo — it’s your voice\, your vibe\, and how you show up consistently.\n\n\nWhether you’re just starting out or ready to refine your identity\, this hands-on branding workshop will give you the tools\, inspiration\, and confidence to build a brand that truly reflects your mission and personality. \nLed by Tracy K. O’Neill\, Founder and CEO of Two Crows Creative Group\, you’ll explore how to develop your brand voice\, understand when (and how) to combine personal and business branding\, and build a brand kit using Canva that you can take home and use right away. \nYou’ll also get insider tips on what to look for when hiring a designer or consultant\, and see examples of how successful local brands have brought their stories to life.\n\nCome curious\, leave confident.
URL:https://capespace.com/event/brand-like-a-boss/
LOCATION:CapeSpace Hyannis\, 100 Independence Drive\, Hyannis\, MA\, 02601\, United States
CATEGORIES:Member Events,Workshop
ATTACH;FMTTYPE=image/jpeg:https://capespace.com/wp-content/uploads/2025/09/Roundtable-Flyer-Website.jpg
END:VEVENT
BEGIN:VEVENT
DTSTART;VALUE=DATE:20251030
DTEND;VALUE=DATE:20251031
DTSTAMP:20260425T223650
CREATED:20250930T211938Z
LAST-MODIFIED:20251004T201048Z
UID:25161-1761782400-1761868799@capespace.com
SUMMARY:Enterprising Women 2025: Rooted\, Rising & Resilient
DESCRIPTION:Celebrate the strength\, growth\, and perseverance of women in business at this empowering event. \nConnect through meaningful networking\, explore a curated selection of vendors\, enjoy a delicious lunch\, and gain inspiration from our dynamic panelists. The day will culminate with the all-new Enterprising Women awards\, honoring women who embody resilience and leadership in our community. \n\n\n\n\nEVENT OVERVIEW:\nHeld at the Margaritaville Resort\, Cape Cod. A delicious lunch will be served and you won’t want to miss out on your chance to network. \n\n\n\n\nEVENT SCHEDULE:\n9:30 – 10:00 AM – Registration & Doors Open\n10:00 – 11:30 AM – Vendor Expo\n11:30 AM – Opening Remarks & Lunch\n12:00 – 12:45 PM – Panel One\n12:45 – 1:00 PM – Stretch & Meditation Break\n1:00 – 2:00 PM – Panel Two \n\n\n\n\n\nRegistration Info\nTickets $65 \nTables of 8 – $520 \nVendors – $125 (Vendors will be allowed to promote/sell between 10am -12pm)
URL:https://capespace.com/event/enterprising-women-2025/
LOCATION:Margaritaville Resort Cape Cod\, 1225 Iyannough Road\, Hyannis\, MA\, 01601\, United States
ATTACH;FMTTYPE=image/png:https://capespace.com/wp-content/uploads/2025/09/Screenshot-2025-10-04-at-4.09.55-PM.png
ORGANIZER;CN="Cape &amp%3B Plymouth Business Media":MAILTO:dale@capeplymouthbusiness.com
END:VEVENT
END:VCALENDAR