BEGIN:VCALENDAR
VERSION:2.0
PRODID:-//CapeSpace - ECPv6.15.20//NONSGML v1.0//EN
CALSCALE:GREGORIAN
METHOD:PUBLISH
X-ORIGINAL-URL:https://capespace.com
X-WR-CALDESC:Events for CapeSpace
REFRESH-INTERVAL;VALUE=DURATION:PT1H
X-Robots-Tag:noindex
X-PUBLISHED-TTL:PT1H
BEGIN:VTIMEZONE
TZID:America/New_York
BEGIN:DAYLIGHT
TZOFFSETFROM:-0500
TZOFFSETTO:-0400
TZNAME:EDT
DTSTART:20190310T070000
END:DAYLIGHT
BEGIN:STANDARD
TZOFFSETFROM:-0400
TZOFFSETTO:-0500
TZNAME:EST
DTSTART:20191103T060000
END:STANDARD
BEGIN:DAYLIGHT
TZOFFSETFROM:-0500
TZOFFSETTO:-0400
TZNAME:EDT
DTSTART:20200308T070000
END:DAYLIGHT
BEGIN:STANDARD
TZOFFSETFROM:-0400
TZOFFSETTO:-0500
TZNAME:EST
DTSTART:20201101T060000
END:STANDARD
BEGIN:DAYLIGHT
TZOFFSETFROM:-0500
TZOFFSETTO:-0400
TZNAME:EDT
DTSTART:20210314T070000
END:DAYLIGHT
BEGIN:STANDARD
TZOFFSETFROM:-0400
TZOFFSETTO:-0500
TZNAME:EST
DTSTART:20211107T060000
END:STANDARD
END:VTIMEZONE
BEGIN:VEVENT
DTSTART;TZID=America/New_York:20200114T180000
DTEND;TZID=America/New_York:20200114T200000
DTSTAMP:20260420T234959
CREATED:20191219T175455Z
LAST-MODIFIED:20191219T175455Z
UID:19587-1579024800-1579032000@capespace.com
SUMMARY:Building a Marketing Calendar
DESCRIPTION:Happy New Year! Know what that means? Setting goals and strategies for your business. UGH! Not again. Have you been lagging on your marketing or maybe don’t know when and what to post? \nHere’s a tip: Having a marketing strategy for your small business\, even if it is a loose one\, can help you market more effectively and efficiently. \nAs small business owners\, our biggest problem in marketing is being organized and having enough time to create the content necessary for our audience. \nWe will discuss:\n1. Brand Message\n2. Demographic\n3. Transparency\n4. Important dates\n5. Brainstorming\n6. Creating and sharing content \nPlease bring:\nA paper calendar or calendar book to mark special dates\, ideas and strategies for posting. \nTo register\, please click here.
URL:https://capespace.com/event/building-a-marketing-calendar/
LOCATION:CapeSpace Hyannis\, 100 Independence Drive\, Hyannis\, MA\, 02601\, United States
CATEGORIES:Workshop
ATTACH;FMTTYPE=image/jpeg:https://capespace.com/wp-content/uploads/2019/12/BUilding.jpg
ORGANIZER;CN="Tricia White":MAILTO:info@twhitecreations.com
END:VEVENT
END:VCALENDAR