BEGIN:VCALENDAR
VERSION:2.0
PRODID:-//CapeSpace - ECPv6.15.20//NONSGML v1.0//EN
CALSCALE:GREGORIAN
METHOD:PUBLISH
X-ORIGINAL-URL:https://capespace.com
X-WR-CALDESC:Events for CapeSpace
REFRESH-INTERVAL;VALUE=DURATION:PT1H
X-Robots-Tag:noindex
X-PUBLISHED-TTL:PT1H
BEGIN:VTIMEZONE
TZID:America/New_York
BEGIN:DAYLIGHT
TZOFFSETFROM:-0500
TZOFFSETTO:-0400
TZNAME:EDT
DTSTART:20210314T070000
END:DAYLIGHT
BEGIN:STANDARD
TZOFFSETFROM:-0400
TZOFFSETTO:-0500
TZNAME:EST
DTSTART:20211107T060000
END:STANDARD
BEGIN:DAYLIGHT
TZOFFSETFROM:-0500
TZOFFSETTO:-0400
TZNAME:EDT
DTSTART:20220313T070000
END:DAYLIGHT
BEGIN:STANDARD
TZOFFSETFROM:-0400
TZOFFSETTO:-0500
TZNAME:EST
DTSTART:20221106T060000
END:STANDARD
BEGIN:DAYLIGHT
TZOFFSETFROM:-0500
TZOFFSETTO:-0400
TZNAME:EDT
DTSTART:20230312T070000
END:DAYLIGHT
BEGIN:STANDARD
TZOFFSETFROM:-0400
TZOFFSETTO:-0500
TZNAME:EST
DTSTART:20231105T060000
END:STANDARD
END:VTIMEZONE
BEGIN:VEVENT
DTSTART;TZID=America/New_York:20220201T080000
DTEND;TZID=America/New_York:20220201T110000
DTSTAMP:20260420T131359
CREATED:20210903T160522Z
LAST-MODIFIED:20220104T180625Z
UID:21670-1643702400-1643713200@capespace.com
SUMMARY:B FREE Office Hours @ CapeSpace Hyannis
DESCRIPTION:Discover how you can begin a journey of healing through B FREE Wellness’ innovative coaching program. B FREE Wellness is a community that transforms people’s lives by providing free or low cost services\, including movement\, mindfulness and coaching programs to those whose lives have been affected by trauma\, addiction and oppression. \nTo learn more and sign up for a coaching session at CapeSpace Hyannis\, please email Marissa Biederman at bfreewellnessmarissa@gmail.com. \nCAPESPACE MEMBERS: B FREE is offering these sessions to you at no cost! Email haley@capespace.com to sign up. \nLearn more about B FREE in our interview with founder Ayanna Parrent — click here to watch!
URL:https://capespace.com/event/b-free-office-hours-capespace-hyannis-2022-02-01/
LOCATION:CapeSpace Hyannis\, 100 Independence Drive\, Hyannis\, MA\, 02601\, United States
CATEGORIES:Local Services,Workshop
ATTACH;FMTTYPE=image/jpeg:https://capespace.com/wp-content/uploads/2021/09/B-Free-logo.jpg
END:VEVENT
BEGIN:VEVENT
DTSTART;TZID=America/New_York:20220203T160000
DTEND;TZID=America/New_York:20220203T190000
DTSTAMP:20260420T131359
CREATED:20210903T161714Z
LAST-MODIFIED:20220104T180818Z
UID:21800-1643904000-1643914800@capespace.com
SUMMARY:B FREE Office Hours @ CapeSpace Mashpee
DESCRIPTION:Discover how you can begin a journey of healing through B FREE Wellness’ innovative coaching program. B FREE Wellness is a community that transforms people’s lives by providing free or low cost services\, including movement\, mindfulness and coaching programs\, to those whose lives have been affected by trauma\, addiction and oppression. \nTo learn more and sign up for a coaching session at CapeSpace Mashpee\, please email Marissa Biederman at bfreewellnessmarissa@gmail.com. \nCAPESPACE MEMBERS: B FREE is offering these sessions to you at no cost! Email haley@capespace.com to sign up. \nLearn more about B FREE in our interview with founder Ayanna Parrent — click here to watch!
URL:https://capespace.com/event/b-free-office-hours-capespace-mashpee-2022-02-03/
LOCATION:CapeSpace Mashpee\, 13 Steeple Street\, Suite 202\, Mashpee\, MA\, 02649\, United States
CATEGORIES:Local Services,Workshop
ATTACH;FMTTYPE=image/jpeg:https://capespace.com/wp-content/uploads/2021/09/B-Free-logo.jpg
END:VEVENT
BEGIN:VEVENT
DTSTART;TZID=America/New_York:20220208T080000
DTEND;TZID=America/New_York:20220208T110000
DTSTAMP:20260420T131359
CREATED:20210903T160522Z
LAST-MODIFIED:20220104T180625Z
UID:21671-1644307200-1644318000@capespace.com
SUMMARY:B FREE Office Hours @ CapeSpace Hyannis
DESCRIPTION:Discover how you can begin a journey of healing through B FREE Wellness’ innovative coaching program. B FREE Wellness is a community that transforms people’s lives by providing free or low cost services\, including movement\, mindfulness and coaching programs to those whose lives have been affected by trauma\, addiction and oppression. \nTo learn more and sign up for a coaching session at CapeSpace Hyannis\, please email Marissa Biederman at bfreewellnessmarissa@gmail.com. \nCAPESPACE MEMBERS: B FREE is offering these sessions to you at no cost! Email haley@capespace.com to sign up. \nLearn more about B FREE in our interview with founder Ayanna Parrent — click here to watch!
URL:https://capespace.com/event/b-free-office-hours-capespace-hyannis-2022-02-08/
LOCATION:CapeSpace Hyannis\, 100 Independence Drive\, Hyannis\, MA\, 02601\, United States
CATEGORIES:Local Services,Workshop
ATTACH;FMTTYPE=image/jpeg:https://capespace.com/wp-content/uploads/2021/09/B-Free-logo.jpg
END:VEVENT
BEGIN:VEVENT
DTSTART;TZID=America/New_York:20220210T160000
DTEND;TZID=America/New_York:20220210T190000
DTSTAMP:20260420T131359
CREATED:20210903T161714Z
LAST-MODIFIED:20220208T192430Z
UID:21801-1644508800-1644519600@capespace.com
SUMMARY:B FREE Office Hours @ CapeSpace Mashpee
DESCRIPTION:Discover how you can begin a journey of healing through B FREE Wellness’ innovative coaching program. B FREE Wellness is a community that transforms people’s lives by providing free or low cost services\, including movement\, mindfulness and coaching programs\, to those whose lives have been affected by trauma\, addiction and oppression. \nTo learn more and sign up for a coaching session at CapeSpace Mashpee\, please email Marissa Biederman at bfreewellnessmarissa@gmail.com. \nCAPESPACE MEMBERS: B FREE is offering these sessions to you at no cost! Email haley@capespace.com to sign up. \nLearn more about B FREE in our interview with founder Ayanna Parrent — click here to watch!
URL:https://capespace.com/event/b-free-office-hours-capespace-mashpee-2022-02-10/
LOCATION:CapeSpace Mashpee\, 13 Steeple Street\, Suite 202\, Mashpee\, MA\, 02649\, United States
CATEGORIES:Local Services,Workshop
ATTACH;FMTTYPE=image/jpeg:https://capespace.com/wp-content/uploads/2021/09/B-Free-logo.jpg
END:VEVENT
END:VCALENDAR