BEGIN:VCALENDAR
VERSION:2.0
PRODID:-//CapeSpace - ECPv6.15.20//NONSGML v1.0//EN
CALSCALE:GREGORIAN
METHOD:PUBLISH
X-ORIGINAL-URL:https://capespace.com
X-WR-CALDESC:Events for CapeSpace
REFRESH-INTERVAL;VALUE=DURATION:PT1H
X-Robots-Tag:noindex
X-PUBLISHED-TTL:PT1H
BEGIN:VTIMEZONE
TZID:America/New_York
BEGIN:DAYLIGHT
TZOFFSETFROM:-0500
TZOFFSETTO:-0400
TZNAME:EDT
DTSTART:20190310T070000
END:DAYLIGHT
BEGIN:STANDARD
TZOFFSETFROM:-0400
TZOFFSETTO:-0500
TZNAME:EST
DTSTART:20191103T060000
END:STANDARD
BEGIN:DAYLIGHT
TZOFFSETFROM:-0500
TZOFFSETTO:-0400
TZNAME:EDT
DTSTART:20200308T070000
END:DAYLIGHT
BEGIN:STANDARD
TZOFFSETFROM:-0400
TZOFFSETTO:-0500
TZNAME:EST
DTSTART:20201101T060000
END:STANDARD
BEGIN:DAYLIGHT
TZOFFSETFROM:-0500
TZOFFSETTO:-0400
TZNAME:EDT
DTSTART:20210314T070000
END:DAYLIGHT
BEGIN:STANDARD
TZOFFSETFROM:-0400
TZOFFSETTO:-0500
TZNAME:EST
DTSTART:20211107T060000
END:STANDARD
END:VTIMEZONE
BEGIN:VEVENT
DTSTART;TZID=America/New_York:20200513T120000
DTEND;TZID=America/New_York:20200513T130000
DTSTAMP:20260421T091550
CREATED:20200428T152940Z
LAST-MODIFIED:20200507T131840Z
UID:20298-1589371200-1589374800@capespace.com
SUMMARY:Shift Worry Into Opportunity
DESCRIPTION:It’s May\, and the start of the busy summer season is right around the corner. And yet worry and uncertainty are keeping some of us from being able to move forward. \nMany people feel as though they are on a gigantic\, never-ending roller coaster. Do you just want off of this ride so you can start taking action? \nJoin Helen Kosinski\, Professional Certified Coach\, as she talks about how you can shift worry into opportunity. During this Lunch & Learn webinar\, you will: \n• Discover why worry is so powerful at keeping you stuck and what you can do about it\n• Learn how to focus on what is most important to you\n• Determine what action you can take right now to shift your situation \nPlease be sure to pre-register for this event. The cost to attend is $10\, with proceeds benefiting the MSPCA. \nAbout Helen: \nHelen Kosinski has partnered with passionate\, overworked small business owners and corporate leaders since 2005. Together they unlock creative steps to strip away what isn’t working and replace it with an inventive work life. This allows Helen’s clients to freely enjoy what’s most meaningful to them. One of her main goals for her clients is to have less stress and more success!
URL:https://capespace.com/event/shift-worry-into-opportunity/
LOCATION:MA
CATEGORIES:Workshop
ATTACH;FMTTYPE=image/jpeg:https://capespace.com/wp-content/uploads/2020/04/Opportunity-Compressed.jpg
ORGANIZER;CN="Helen Kosinski":MAILTO:Helen@HelenKosinski.com
END:VEVENT
END:VCALENDAR